BEGIN:VCALENDAR
PRODID:https://www.soglos.com
VERSION:2.0
CALSCALE:GREGORIAN
METHOD:PUBLISH
BEGIN:VEVENT
SUMMARY;LANGUAGE=en-gb:Holy Week and Easter at Gloucester Cathedral
CLASS:PUBLIC
CREATED:20260423T213910Z
DESCRIPTION:
DTSTART:20240323T000000
DTEND:20240407T000000
UID:0166e77d-00a8-4dfb-b2ce-505370642bdd
END:VEVENT
END:VCALENDAR
