BEGIN:VCALENDAR
PRODID:https://www.soglos.com
VERSION:2.0
CALSCALE:GREGORIAN
METHOD:PUBLISH
BEGIN:VEVENT
SUMMARY;LANGUAGE=en-gb:Bing's Nature Explorers at Slimbridge Wetland Centre
CLASS:PUBLIC
CREATED:20260423T124808Z
DESCRIPTION:
DTSTART:20240323T000000
DTEND:20240602T000000
UID:a4c3b524-d6e3-4af8-884a-3d5ac1b95e75
END:VEVENT
END:VCALENDAR
