BEGIN:VCALENDAR
PRODID:https://www.soglos.com
VERSION:2.0
CALSCALE:GREGORIAN
METHOD:PUBLISH
BEGIN:VEVENT
SUMMARY;LANGUAGE=en-gb:Cotswold Fest 2024
CLASS:PUBLIC
CREATED:20260421T085513Z
DESCRIPTION:
DTSTART:20240726T160000
DTEND:20240728T170000
UID:ac053c20-42d8-421c-be03-f228f9a310be
END:VEVENT
END:VCALENDAR
