BEGIN:VCALENDAR
PRODID:https://www.soglos.com
VERSION:2.0
CALSCALE:GREGORIAN
METHOD:PUBLISH
BEGIN:VEVENT
SUMMARY;LANGUAGE=en-gb:The Merry Monarch at Berkeley Castle
CLASS:PUBLIC
CREATED:20260422T030435Z
DESCRIPTION:
DTSTART:20240526T110000
DTEND:20240527T170000
UID:2bf78651-9517-447f-b7de-395177efaf30
END:VEVENT
END:VCALENDAR
