BEGIN:VCALENDAR
PRODID:https://www.soglos.com
VERSION:2.0
CALSCALE:GREGORIAN
METHOD:PUBLISH
BEGIN:VEVENT
SUMMARY;LANGUAGE=en-gb:Late Summer Open Day 
CLASS:PUBLIC
CREATED:20260423T081330Z
DESCRIPTION:
DTSTART:20240908T100000
DTEND:20240908T160000
UID:3c19ccb2-0225-4c13-bcdf-d31b3fe73909
END:VEVENT
END:VCALENDAR
