BEGIN:VCALENDAR
PRODID:https://www.soglos.com
VERSION:2.0
CALSCALE:GREGORIAN
METHOD:PUBLISH
BEGIN:VEVENT
SUMMARY;LANGUAGE=en-gb:VE80 at Berkeley Castle
CLASS:PUBLIC
CREATED:20260421T085648Z
DESCRIPTION:
DTSTART:20250504T110000
DTEND:20250505T170000
UID:7d5a6433-f6b4-480d-b7a7-49e4f26db85f
END:VEVENT
END:VCALENDAR
