BEGIN:VCALENDAR
PRODID:https://www.soglos.com
VERSION:2.0
CALSCALE:GREGORIAN
METHOD:PUBLISH
BEGIN:VEVENT
SUMMARY;LANGUAGE=en-gb:...Earnest? at the Everyman Theatre in Cheltenham
CLASS:PUBLIC
CREATED:20260421T085648Z
DESCRIPTION:
DTSTART:20250610T000000
DTEND:20250611T000000
UID:6a54301c-f47f-45d1-92d4-b875421ecba4
END:VEVENT
END:VCALENDAR
