BEGIN:VCALENDAR
PRODID:https://www.soglos.com
VERSION:2.0
CALSCALE:GREGORIAN
METHOD:PUBLISH
BEGIN:VEVENT
SUMMARY;LANGUAGE=en-gb:The Last Laugh at the Everyman Theatre
CLASS:PUBLIC
CREATED:20260424T054321Z
DESCRIPTION:
DTSTART:20260714T000000
DTEND:20260718T000000
UID:f86323ee-3695-4445-afb3-4c492233326f
END:VEVENT
END:VCALENDAR
