BEGIN:VCALENDAR
PRODID:https://www.soglos.com
VERSION:2.0
CALSCALE:GREGORIAN
METHOD:PUBLISH
BEGIN:VEVENT
SUMMARY;LANGUAGE=en-gb:The Beekeeper of Aleppo at the Everyman Theatre
CLASS:PUBLIC
CREATED:20260424T092236Z
DESCRIPTION:
DTSTART:20260602T000000
DTEND:20260606T000000
UID:fcac6e01-3619-4ab4-88c0-990641b12286
END:VEVENT
END:VCALENDAR
