BEGIN:VCALENDAR
PRODID:https://www.soglos.com
VERSION:2.0
CALSCALE:GREGORIAN
METHOD:PUBLISH
BEGIN:VEVENT
SUMMARY;LANGUAGE=en-gb:Agatha Christie's Death on the Nile at the Everyman Theatre 
CLASS:PUBLIC
CREATED:20260425T113123Z
DESCRIPTION:
DTSTART:20260203T000000
DTEND:20260207T000000
UID:baa162cc-4e82-4cb3-9ee2-ed47ed131729
END:VEVENT
END:VCALENDAR
