BEGIN:VCALENDAR
PRODID:https://www.soglos.com
VERSION:2.0
CALSCALE:GREGORIAN
METHOD:PUBLISH
BEGIN:VEVENT
SUMMARY;LANGUAGE=en-gb:Lambing and kidding season at Cotswold Farm Park
CLASS:PUBLIC
CREATED:20260423T214932Z
DESCRIPTION:
DTSTART:20250214T093000
DTEND:20250425T170000
UID:21db5724-e6cc-425d-ad74-59bb3acfd17c
END:VEVENT
END:VCALENDAR
