BEGIN:VCALENDAR
PRODID:https://www.soglos.com
VERSION:2.0
CALSCALE:GREGORIAN
METHOD:PUBLISH
BEGIN:VEVENT
SUMMARY;LANGUAGE=en-gb:International Women's Brew Day at Brewhouse & Kitchen Cheltenham
CLASS:PUBLIC
CREATED:20260423T194216Z
DESCRIPTION:
DTSTART:20250308T100000
DTEND:20250308T170000
UID:a1de38b2-7f5c-450a-b0ab-8f8fc9378510
END:VEVENT
END:VCALENDAR
