BEGIN:VCALENDAR
PRODID:https://www.soglos.com
VERSION:2.0
CALSCALE:GREGORIAN
METHOD:PUBLISH
BEGIN:VEVENT
SUMMARY;LANGUAGE=en-gb:Tewkesbury's BIG Weekend Fostering Information Session
CLASS:PUBLIC
CREATED:20260423T082203Z
DESCRIPTION:
DTSTART:20250518T000000
DTEND:20250518T000000
UID:3af24ca3-efe0-4855-a16d-b05794ebd1cb
END:VEVENT
END:VCALENDAR
