BEGIN:VCALENDAR
PRODID:https://www.soglos.com
VERSION:2.0
CALSCALE:GREGORIAN
METHOD:PUBLISH
BEGIN:VEVENT
SUMMARY;LANGUAGE=en-gb:Gloucestershire County Council Fostering information pop-up at Forest Showcase Food Festival 
CLASS:PUBLIC
CREATED:20260419T192416Z
DESCRIPTION:
DTSTART:20251005T000000
DTEND:20251005T000000
UID:05d001e4-14fe-429c-b798-84c5dd9f8b44
END:VEVENT
END:VCALENDAR
