BEGIN:VCALENDAR
PRODID:https://www.soglos.com
VERSION:2.0
CALSCALE:GREGORIAN
METHOD:PUBLISH
BEGIN:VEVENT
SUMMARY;LANGUAGE=en-gb:Cheltenham Open Studios Art Trail 2025
CLASS:PUBLIC
CREATED:20260420T232941Z
DESCRIPTION:
DTSTART:20250607T000000
DTEND:20250615T000000
UID:9f700feb-ca40-4ddc-8d59-69380ba700bb
END:VEVENT
END:VCALENDAR
