BEGIN:VCALENDAR
PRODID:https://www.soglos.com
VERSION:2.0
CALSCALE:GREGORIAN
METHOD:PUBLISH
BEGIN:VEVENT
SUMMARY;LANGUAGE=en-gb:Hartpury Festival of Eventing 2025
CLASS:PUBLIC
CREATED:20260425T020821Z
DESCRIPTION:
DTSTART:20250805T000000
DTEND:20250810T000000
UID:242eda8a-7062-4b29-a336-5cd04e736e95
END:VEVENT
END:VCALENDAR
