BEGIN:VCALENDAR
PRODID:https://www.soglos.com
VERSION:2.0
CALSCALE:GREGORIAN
METHOD:PUBLISH
BEGIN:VEVENT
SUMMARY;LANGUAGE=en-gb:National Star's Wear It Green Day 2026
CLASS:PUBLIC
CREATED:20260424T133133Z
DESCRIPTION:
DTSTART:20260624T000000
DTEND:20260624T235900
UID:851637bf-9636-4e50-8b9d-8ece7ccdc1b5
END:VEVENT
END:VCALENDAR
