BEGIN:VCALENDAR
PRODID:https://www.soglos.com
VERSION:2.0
CALSCALE:GREGORIAN
METHOD:PUBLISH
BEGIN:VEVENT
SUMMARY;LANGUAGE=en-gb:Robin Hood and his Merry Men at the Everyman Theatre
CLASS:PUBLIC
CREATED:20260420T180216Z
DESCRIPTION:
DTSTART:20251128T000000
DTEND:20260111T000000
UID:96b04fb3-3a3f-4a7f-a8f4-8cd011173710
END:VEVENT
END:VCALENDAR
