BEGIN:VCALENDAR
PRODID:https://www.soglos.com
VERSION:2.0
CALSCALE:GREGORIAN
METHOD:PUBLISH
BEGIN:VEVENT
SUMMARY;LANGUAGE=en-gb:King Charles II at the races at Berkeley Castle
CLASS:PUBLIC
CREATED:20260425T015658Z
DESCRIPTION:
DTSTART:20260404T110000
DTEND:20260406T163000
UID:547330aa-43e7-4755-b5fc-d8cf05ab9dd3
END:VEVENT
END:VCALENDAR
