BEGIN:VCALENDAR
PRODID:https://www.soglos.com
VERSION:2.0
CALSCALE:GREGORIAN
METHOD:PUBLISH
BEGIN:VEVENT
SUMMARY;LANGUAGE=en-gb:Live music from After Ours at Brickhampton Court
CLASS:PUBLIC
CREATED:20260421T141401Z
DESCRIPTION:
DTSTART:20260515T193000
DTEND:20260515T193000
UID:f1ef15d3-5a92-4fd4-8e43-fc1b6bd5d8b1
END:VEVENT
END:VCALENDAR
