BEGIN:VCALENDAR
PRODID:https://www.soglos.com
VERSION:2.0
CALSCALE:GREGORIAN
METHOD:PUBLISH
BEGIN:VEVENT
SUMMARY;LANGUAGE=en-gb:Exclusive local access to the new REP Fitness showroom near Stonehouse
CLASS:PUBLIC
CREATED:20260425T102200Z
DESCRIPTION:
DTSTART:20260127T090000
DTEND:20260129T160000
UID:aa10369a-4992-45ca-9149-aa2e96f601db
END:VEVENT
END:VCALENDAR
