BEGIN:VCALENDAR
PRODID:https://www.soglos.com
VERSION:2.0
CALSCALE:GREGORIAN
METHOD:PUBLISH
BEGIN:VEVENT
SUMMARY;LANGUAGE=en-gb:Gloucester Cathedral Organ Festival 2026
CLASS:PUBLIC
CREATED:20260422T183926Z
DESCRIPTION:
DTSTART:20260613T000000
DTEND:20260615T000000
UID:2d303209-bd66-4aa4-9868-e654d8a0e601
END:VEVENT
END:VCALENDAR
