BEGIN:VCALENDAR
PRODID:https://www.soglos.com
VERSION:2.0
CALSCALE:GREGORIAN
METHOD:PUBLISH
BEGIN:VEVENT
SUMMARY;LANGUAGE=en-gb:Gloucestershire Growth Forum 2026
CLASS:PUBLIC
CREATED:20260423T170909Z
DESCRIPTION:
DTSTART:20260318T080000
DTEND:20260318T130000
UID:b4739494-97ed-4f2b-ba0b-8b15ccf84c33
END:VEVENT
END:VCALENDAR
