BEGIN:VCALENDAR
PRODID:https://www.soglos.com
VERSION:2.0
CALSCALE:GREGORIAN
METHOD:PUBLISH
BEGIN:VEVENT
SUMMARY;LANGUAGE=en-gb:The Roses' Garden Festival 2026
CLASS:PUBLIC
CREATED:20260422T155931Z
DESCRIPTION:
DTSTART:20260730T000000
DTEND:20260802T000000
UID:ac0e4dc8-53ed-4bb6-ae4d-0d7cfb73df6f
END:VEVENT
END:VCALENDAR
