BEGIN:VCALENDAR
PRODID:https://www.soglos.com
VERSION:2.0
CALSCALE:GREGORIAN
METHOD:PUBLISH
BEGIN:VEVENT
SUMMARY;LANGUAGE=en-gb:Cheltenham Jazz Festival Around Town... at The Brewery Quarter
CLASS:PUBLIC
CREATED:20260422T120409Z
DESCRIPTION:
DTSTART:20260502T134500
DTEND:20260503T181500
UID:ccb980ec-0ffc-4324-8684-8366caf72e68
END:VEVENT
END:VCALENDAR
