BEGIN:VCALENDAR
PRODID:https://www.soglos.com
VERSION:2.0
CALSCALE:GREGORIAN
METHOD:PUBLISH
BEGIN:VEVENT
SUMMARY;LANGUAGE=en-gb:Pied Piper Classic Cars & Family Day 2026
CLASS:PUBLIC
CREATED:20260423T160330Z
DESCRIPTION:
DTSTART:20260614T100000
DTEND:20260614T160000
UID:b88b3daa-c4a6-4972-bf3f-aee8236ef647
END:VEVENT
END:VCALENDAR
